BEGIN:VCALENDAR
VERSION:2.0
PRODID:-//Republican Party of Burleson County - ECPv6.15.20//NONSGML v1.0//EN
CALSCALE:GREGORIAN
METHOD:PUBLISH
X-ORIGINAL-URL:https://republicanpartyofburlesoncounty.com
X-WR-CALDESC:Events for Republican Party of Burleson County
REFRESH-INTERVAL;VALUE=DURATION:PT1H
X-Robots-Tag:noindex
X-PUBLISHED-TTL:PT1H
BEGIN:VTIMEZONE
TZID:UTC
BEGIN:STANDARD
TZOFFSETFROM:+0000
TZOFFSETTO:+0000
TZNAME:UTC
DTSTART:20230101T000000
END:STANDARD
END:VTIMEZONE
BEGIN:VEVENT
DTSTART;TZID=UTC:20240627T173000
DTEND;TZID=UTC:20240627T180000
DTSTAMP:20260424T103133
CREATED:20240618T182940Z
LAST-MODIFIED:20240618T182940Z
UID:671-1719509400-1719511200@republicanpartyofburlesoncounty.com
SUMMARY:Organizational Meeting
DESCRIPTION:cec agenda 6-27-24
URL:https://republicanpartyofburlesoncounty.com/events/organizational-meeting/
LOCATION:Snook City Hall\, Snook\, TX\, 77878\, United States
ORGANIZER;CN="Republican Party of Burleson County":MAILTO:BCRepublicans@outlook.com
END:VEVENT
BEGIN:VEVENT
DTSTART;TZID=UTC:20240627T180000
DTEND;TZID=UTC:20240627T200000
DTSTAMP:20260424T103133
CREATED:20240506T215809Z
LAST-MODIFIED:20240506T220140Z
UID:563-1719511200-1719518400@republicanpartyofburlesoncounty.com
SUMMARY:Regular Meeting
DESCRIPTION:Pizza and movie night Caldwell Civic Center.
URL:https://republicanpartyofburlesoncounty.com/events/regular-meeting/
LOCATION:Snook City Hall\, Snook\, TX\, 77878\, United States
ATTACH;FMTTYPE=image/jpeg:https://republicanpartyofburlesoncounty.com/wp-content/uploads/2024/05/Sound-of-Freedom-Image-jpg-e1715033016200.webp
ORGANIZER;CN="Republican Party of Burleson County":MAILTO:BCRepublicans@outlook.com
END:VEVENT
END:VCALENDAR