BEGIN:VCALENDAR
VERSION:2.0
PRODID:-//Republican Party of Burleson County - ECPv6.15.20//NONSGML v1.0//EN
CALSCALE:GREGORIAN
METHOD:PUBLISH
X-ORIGINAL-URL:https://republicanpartyofburlesoncounty.com
X-WR-CALDESC:Events for Republican Party of Burleson County
REFRESH-INTERVAL;VALUE=DURATION:PT1H
X-Robots-Tag:noindex
X-PUBLISHED-TTL:PT1H
BEGIN:VTIMEZONE
TZID:UTC
BEGIN:STANDARD
TZOFFSETFROM:+0000
TZOFFSETTO:+0000
TZNAME:UTC
DTSTART:20230101T000000
END:STANDARD
END:VTIMEZONE
BEGIN:VEVENT
DTSTART;TZID=UTC:20241101T080000
DTEND;TZID=UTC:20241101T170000
DTSTAMP:20260421T173214
CREATED:20240722T185217Z
LAST-MODIFIED:20240722T185217Z
UID:785-1730448000-1730480400@republicanpartyofburlesoncounty.com
SUMMARY:Last Day of Early Voting by Personal Appearance
DESCRIPTION:
URL:https://republicanpartyofburlesoncounty.com/events/last-day-of-early-voting-by-personal-appearance-2/
END:VEVENT
BEGIN:VEVENT
DTSTART;TZID=UTC:20241105T070000
DTEND;TZID=UTC:20241105T190000
DTSTAMP:20260421T173214
CREATED:20240905T174515Z
LAST-MODIFIED:20240905T174515Z
UID:1041-1730790000-1730833200@republicanpartyofburlesoncounty.com
SUMMARY:Election Day
DESCRIPTION:
URL:https://republicanpartyofburlesoncounty.com/events/election-day-2/
END:VEVENT
BEGIN:VEVENT
DTSTART;TZID=UTC:20241105T183000
DTEND;TZID=UTC:20241105T213000
DTSTAMP:20260421T173214
CREATED:20240905T175037Z
LAST-MODIFIED:20240905T175037Z
UID:1043-1730831400-1730842200@republicanpartyofburlesoncounty.com
SUMMARY:Election Night Watch Party
DESCRIPTION:Lets have an election night watch party on Fox street in front of Motor Supply. Bring your lawn chair\, snacks and drinks.   We’ll provide some hot dogs and sodas.  Let’s watch our local\, state and federal Republican candidates win\, not to mention President Donald J. Trump.  Bring your Trump signs and let’s win.
URL:https://republicanpartyofburlesoncounty.com/events/election-night-watch-party/
END:VEVENT
END:VCALENDAR