BEGIN:VCALENDAR
VERSION:2.0
PRODID:-//Republican Party of Burleson County - ECPv6.15.20//NONSGML v1.0//EN
CALSCALE:GREGORIAN
METHOD:PUBLISH
X-WR-CALNAME:Republican Party of Burleson County
X-ORIGINAL-URL:https://republicanpartyofburlesoncounty.com
X-WR-CALDESC:Events for Republican Party of Burleson County
REFRESH-INTERVAL;VALUE=DURATION:PT1H
X-Robots-Tag:noindex
X-PUBLISHED-TTL:PT1H
BEGIN:VTIMEZONE
TZID:UTC
BEGIN:STANDARD
TZOFFSETFROM:+0000
TZOFFSETTO:+0000
TZNAME:UTC
DTSTART:20240101T000000
END:STANDARD
END:VTIMEZONE
BEGIN:VEVENT
DTSTART;TZID=UTC:20250804T140000
DTEND;TZID=UTC:20250804T150000
DTSTAMP:20260419T203042
CREATED:20250804T183934Z
LAST-MODIFIED:20250804T183934Z
UID:3799-1754316000-1754319600@republicanpartyofburlesoncounty.com
SUMMARY:Special Called Meeting of the CEC
DESCRIPTION:This is a special called meeting to discuss Fall Festival\, Kolache Festival and the Fair parade.
URL:https://republicanpartyofburlesoncounty.com/events/special-called-meeting-of-the-cec/
LOCATION:Burleson County Courthouse\, 100 West Buck\, 3rd floor\, Caldwell\, 77836\, United States
END:VEVENT
END:VCALENDAR